BEGIN:VCALENDAR
VERSION:2.0
PRODID:-//USYS Kansas - ECPv6.15.17.1//NONSGML v1.0//EN
CALSCALE:GREGORIAN
METHOD:PUBLISH
X-WR-CALNAME:USYS Kansas
X-ORIGINAL-URL:https://www.kansasyouthsoccer.org
X-WR-CALDESC:Events for USYS Kansas
REFRESH-INTERVAL;VALUE=DURATION:PT1H
X-Robots-Tag:noindex
X-PUBLISHED-TTL:PT1H
BEGIN:VTIMEZONE
TZID:UTC
BEGIN:STANDARD
TZOFFSETFROM:+0000
TZOFFSETTO:+0000
TZNAME:UTC
DTSTART:20250101T000000
END:STANDARD
END:VTIMEZONE
BEGIN:VEVENT
DTSTART;VALUE=DATE:20260417
DTEND;VALUE=DATE:20260420
DTSTAMP:20260421T083812
CREATED:20251203T184615Z
LAST-MODIFIED:20251203T184615Z
UID:10000034-1776384000-1776643199@www.kansasyouthsoccer.org
SUMMARY:2026 Kansas Jr State Cup
DESCRIPTION:U11–U12 boys’ and girls’ teams registered with Kansas Youth Soccer\, this competition focuses on player development\, teamwork\, and sportsmanship in a competitive setting.
URL:https://www.kansasyouthsoccer.org/event/2026-kansas-jr-state-cup/
LOCATION:Compass Minerals Sporting Fields\, 1500 N 90th St.\, Kansas City\, KS\, 66112\, United States
END:VEVENT
END:VCALENDAR