BEGIN:VCALENDAR
VERSION:2.0
PRODID:-//USYS Kansas - ECPv6.15.17.1//NONSGML v1.0//EN
CALSCALE:GREGORIAN
METHOD:PUBLISH
X-WR-CALNAME:USYS Kansas
X-ORIGINAL-URL:https://www.kansasyouthsoccer.org
X-WR-CALDESC:Events for USYS Kansas
REFRESH-INTERVAL;VALUE=DURATION:PT1H
X-Robots-Tag:noindex
X-PUBLISHED-TTL:PT1H
BEGIN:VTIMEZONE
TZID:UTC
BEGIN:STANDARD
TZOFFSETFROM:+0000
TZOFFSETTO:+0000
TZNAME:UTC
DTSTART:20250101T000000
END:STANDARD
END:VTIMEZONE
BEGIN:VEVENT
DTSTART;TZID=UTC:20260131T190000
DTEND;TZID=UTC:20260131T220000
DTSTAMP:20260424T143114
CREATED:20250918T191200Z
LAST-MODIFIED:20251203T190623Z
UID:10000031-1769886000-1769896800@www.kansasyouthsoccer.org
SUMMARY:2026 Awards Gala
DESCRIPTION:Each year individuals are recognized in various categories and represent Kansas Youth Soccer at the Midwest Regional.  If individuals are selected as Regional award winners\, they represent the Midwest Region at the US Youth Soccer Awards Gala in conjunction with the US Youth Soccer Convention.  Individuals chosen at the Awards Gala become National Level winners in their respective category.  In addition to State awards\, the Kansas Youth Soccer Association honors Kansas Hall of Fame Inductees.
URL:https://www.kansasyouthsoccer.org/event/2026-awards-gala/
END:VEVENT
END:VCALENDAR